BEGIN:VCALENDAR
VERSION:2.0
PRODID:-//wp-events-plugin.com//7.2.3.1//EN
TZID:Europe/Berlin
X-WR-TIMEZONE:Europe/Berlin
BEGIN:VEVENT
UID:27-674@niewieder.rosenheim.social
DTSTART;TZID=Europe/Berlin:20240930T183000
DTEND;TZID=Europe/Berlin:20240930T203000
DTSTAMP:20240813T185016Z
URL:https://niewieder.rosenheim.social/events/green-border/
SUMMARY:Green Border
DESCRIPTION:\n\n\n\nDieser Abend ist nicht nur eine Filmvorstellung\, sonde
 rn auch eine Gelegenheit\, aus erster Hand zu erfahren\, was es bedeutet\,
  diese Grenze zu überqueren.\n\nFilmvorstellung:\n"Green Border" ist ein 
 tiefgründiger Film\, der die komplexe Realität von Menschen aufzeigt\, d
 ie auf der Suche nach Sicherheit und einem besseren Leben sind. Der Film b
 ietet eine eindrucksvolle Darstellung der emotionalen und physischen Herau
 sforderungen\, denen sich Geflüchtete gegenübersehen.\n\nIn den tückisc
 hen und sumpfigen Wäldern\, die die sogenannte "grüne Grenze" zwischen B
 elarus und Polen bilden\, sind Geflüchtete aus dem Nahen Osten und Afrika
 \, die versuchen\, die Europäische Union zu erreichen\, in einer geopolit
 ischen Krise gefangen\, die vom belarussischen Diktator Alexander Lukasche
 nko inszeniert wurde. Um Europa zu provozieren\, werden die Geflüchteten 
 durch Propaganda\, die ihnen eine einfache Überfahrt in die EU verspricht
 \, an die Grenze gelockt. Die Leben von Julia\, einer frisch gebackenen Ak
 tivistin\, die ihr bequemes Leben aufgegeben hat\, Jan\, einem jungen Gren
 zschutzbeamten\, und einer syrischen Familie verflechten sich zu Spielbäl
 len in diesem Krieg im Verborgenen\n(Green Border: Filmstarts. www.filmsta
 rts.de/kritiken/312029.html)\n\nEin Zeitzeuge berichtet im Anschluss über
  seine Erlebnisse mit der Green Border.\n\nIm Anschluss an den Film und di
 e Ausführungen unseres Gastredners laden wir SIe zu einer offenen Diskuss
 ionsrunde ein. Das ist Ihre Gelegenheit\, Fragen zu stellen\, Meinungen au
 szutauschen und tiefer in die Themen des Films einzutauchen.\n\nWir freuen
  uns darauf\, Sie zu einem Abend voller wichtiger Einblicke und bewegender
  Diskussionen zu begrüßen!\n\nDie Veranstaltungist eine Kooperation des 
 Bildungswerk Rosenheim mit dem Initiativkreis Migration Rosenheim und dem 
 Kulturklub Rosenheim.\n\nTrailer: youtu.be/yB_9Yohj8AE\n\n\n\nAnmeldung un
 d weitere Infos:  https://www.bildungswerk-rosenheim.de/veranstaltungen/d
 etails/52753_green-border-spielfilm-zur-situation-an-der-grenze
LOCATION:Bildungswerk Rosenheim\, Pettenkofer Str. 5\, Rosenheim\, 83022\, 
 Deutschland
X-APPLE-STRUCTURED-LOCATION;VALUE=URI;X-ADDRESS=Pettenkofer Str. 5\, Rosenh
 eim\, 83022\, Deutschland;X-APPLE-RADIUS=100;X-TITLE=Bildungswerk Rosenhei
 m:geo:0,0
END:VEVENT
BEGIN:VTIMEZONE
TZID:Europe/Berlin
X-LIC-LOCATION:Europe/Berlin
BEGIN:DAYLIGHT
DTSTART:20240331T030000
TZOFFSETFROM:+0100
TZOFFSETTO:+0200
TZNAME:CEST
END:DAYLIGHT
END:VTIMEZONE
END:VCALENDAR